BEGIN:VCALENDAR
PRODID:-//AT Content Types//AT Event//EN
VERSION:2.0
METHOD:PUBLISH
BEGIN:VEVENT
DTSTAMP:20260424T124215Z
CREATED:20161108T113114Z
UID:ATEvent-27016f2d99035dbd313c80118e125f90
LAST-MODIFIED:20190409T142328Z
SUMMARY:See the plans in full and meet the project team
DTSTART:20161126T100000Z
DTEND:20161126T160000Z
DESCRIPTION:Redbridge School\nCuckmere Lane\nSouthampton SO16 9RJ
CLASS:PUBLIC
END:VEVENT
END:VCALENDAR
