BEGIN:VCALENDAR
PRODID:-//AT Content Types//AT Event//EN
VERSION:2.0
METHOD:PUBLISH
BEGIN:VEVENT
DTSTAMP:20260424T124246Z
CREATED:20161108T113114Z
UID:ATEvent-258ea1fd5a772544f09c6915cae7f740
LAST-MODIFIED:20190409T142328Z
SUMMARY:See the plans in full and meet the project team
DTSTART:20161125T160000Z
DTEND:20161125T200000Z
DESCRIPTION:Redbridge School\nCuckmere Lane\nSouthampton SO16 9RJ
CLASS:PUBLIC
END:VEVENT
END:VCALENDAR
