BEGIN:VCALENDAR
PRODID:-//AT Content Types//AT Event//EN
VERSION:2.0
METHOD:PUBLISH
BEGIN:VEVENT
DTSTAMP:20260424T123835Z
CREATED:20161026T145236Z
UID:ATEvent-5b756ec668585c7c24f78dbb5ae0002a
LAST-MODIFIED:20190409T135251Z
SUMMARY:Public consultation exhibition
DTSTART:20161123T120000Z
DTEND:20161123T190000Z
DESCRIPTION:Come and talk to us about our proposals at:\n\nThe William
  and Patricia Venton Centre\, Junction Road\, Eastbourne\, BN21 3QY
CLASS:PUBLIC
END:VEVENT
END:VCALENDAR
