BEGIN:VCALENDAR
PRODID:-//AT Content Types//AT Event//EN
VERSION:2.0
METHOD:PUBLISH
BEGIN:VEVENT
DTSTAMP:20260424T124014Z
CREATED:20161026T145237Z
UID:ATEvent-a9be4ffd950e8b9fd9cc2e1b551a9e5a
LAST-MODIFIED:20190409T135251Z
SUMMARY:Lewes Town Council: consultation exhibition
DTSTART:20161129T120000Z
DTEND:20161229T190000Z
DESCRIPTION:Come and talk to us about our proposals at:\n\nLewes Town 
 Council\, High Street\, Lewes\, BN7 2QS
CLASS:PUBLIC
END:VEVENT
END:VCALENDAR
