BEGIN:VCALENDAR
PRODID:-//AT Content Types//AT Event//EN
VERSION:2.0
METHOD:PUBLISH
BEGIN:VEVENT
DTSTAMP:20260424T124051Z
CREATED:20161026T145237Z
UID:ATEvent-d8f2c979a8a05afba503833d3bfe8e4c
LAST-MODIFIED:20190409T135251Z
SUMMARY:Lewes Town Council: consultation exhibition
DTSTART:20161128T120000Z
DTEND:20161128T190000Z
DESCRIPTION:Come and talk to us about our proposals at:\n\nLewes Town 
 Council\, High Street\, Lewes\, BN7 2QS
CLASS:PUBLIC
END:VEVENT
END:VCALENDAR
