BEGIN:VCALENDAR
PRODID:-//AT Content Types//AT Event//EN
VERSION:2.0
METHOD:PUBLISH
BEGIN:VEVENT
DTSTAMP:20260424T124047Z
CREATED:20161026T145237Z
UID:ATEvent-7607e4c6d20cd76849fb5f24b3d21ddf
LAST-MODIFIED:20190409T135251Z
SUMMARY:Alciston & Selmeston Village Hall: consultation exhibition
DTSTART:20161028T100000Z
DTEND:20161028T140000Z
DESCRIPTION:Come and talk to us about our proposals at:\n\nAlciston & 
 Selmeston Village Hall\, The Street\, Selmeston\, BN26 6UG
CLASS:PUBLIC
END:VEVENT
END:VCALENDAR
