BEGIN:VCALENDAR
PRODID:-//AT Content Types//AT Event//EN
VERSION:2.0
METHOD:PUBLISH
BEGIN:VEVENT
DTSTAMP:20260424T124123Z
CREATED:20161026T145237Z
UID:ATEvent-47e35cefd5d123fbb7215d9c82f32a7b
LAST-MODIFIED:20190409T135251Z
SUMMARY:Alciston & Selmeston Village Hall: consultation exhibition
DTSTART:20161027T140000Z
DTEND:20161027T180000Z
DESCRIPTION:Come and talk to us about our proposals at:\n\nAlciston & 
 Selmeston Village Hall\, The Street\, Selmeston\, BN26 6UG
CLASS:PUBLIC
END:VEVENT
END:VCALENDAR
