BEGIN:VCALENDAR
PRODID:-//AT Content Types//AT Event//EN
VERSION:2.0
METHOD:PUBLISH
BEGIN:VEVENT
DTSTAMP:20260424T124117Z
CREATED:20161026T145237Z
UID:ATEvent-bfe33732cd39adffd681cc24d26252e1
LAST-MODIFIED:20190409T135251Z
SUMMARY:Trinity Church Willingdon: consultation exhibition
DTSTART:20161105T100000Z
DTEND:20161111T140000Z
DESCRIPTION:Come and talk to us about our proposals at:\n\n\nTrinity C
 hurch\, Coppice Ave\, Willingdon\, BN20 9QD
CLASS:PUBLIC
END:VEVENT
END:VCALENDAR
