BEGIN:VCALENDAR
PRODID:-//AT Content Types//AT Event//EN
VERSION:2.0
METHOD:PUBLISH
BEGIN:VEVENT
DTSTAMP:20260424T123938Z
CREATED:20161026T145237Z
UID:ATEvent-18977e54ffb62bdb75b94a9be79964e0
LAST-MODIFIED:20190409T135251Z
SUMMARY:Hailsham Civic Community Hall: consultation exhibition
DTSTART:20161031T110000Z
DTEND:20161031T180000Z
DESCRIPTION:Come and talk to us about our proposals at:\n\nCivic Commu
 nity Hall\, Vicarage Lane\, Hailsham\, BN27 2AX
CLASS:PUBLIC
END:VEVENT
END:VCALENDAR
