BEGIN:VCALENDAR
PRODID:-//AT Content Types//AT Event//EN
VERSION:2.0
METHOD:PUBLISH
BEGIN:VEVENT
DTSTAMP:20260424T123928Z
CREATED:20161026T145237Z
UID:ATEvent-cf8f273720c458d687940b9d625a038f
LAST-MODIFIED:20190409T135251Z
SUMMARY:Eastbourne William and Patricia Venton Centre: consultation exhibition
DTSTART:20161116T120000Z
DTEND:20161116T190000Z
DESCRIPTION:Come and talk to us about our proposals at:\n\nThe William
  and Patricia Venton Centre\, Junction Road\, Eastbourne\, BN21 3QY
CLASS:PUBLIC
END:VEVENT
END:VCALENDAR
