BEGIN:VCALENDAR
PRODID:-//AT Content Types//AT Event//EN
VERSION:2.0
METHOD:PUBLISH
BEGIN:VEVENT
DTSTAMP:20260424T123917Z
CREATED:20161026T145237Z
UID:ATEvent-8f0e6f525130d764c34e02ad63b34256
LAST-MODIFIED:20190409T135251Z
SUMMARY:Polegate Free Church: consultation exhibition
DTSTART:20161109T120000Z
DTEND:20161109T190000Z
DESCRIPTION:Come and talk to us about our proposals at:\n\nPolegate Fr
 ee Church\, High Street\, Polegate\, BN26 6AE
CLASS:PUBLIC
END:VEVENT
END:VCALENDAR
