BEGIN:VCALENDAR
PRODID:-//AT Content Types//AT Event//EN
VERSION:2.0
METHOD:PUBLISH
BEGIN:VEVENT
DTSTAMP:20260424T124241Z
CREATED:20161026T145237Z
UID:ATEvent-f9e6ff0144c981b09427c135d0d2e683
LAST-MODIFIED:20190409T135251Z
SUMMARY:Berwick Village Hall: consultation exhibition
DTSTART:20161126T100000Z
DTEND:20161126T140000Z
DESCRIPTION:Come and talk to us about our proposals at:\n\nBerwick Vil
 lage Hall\, Station Road\, Berwick\, BN26 6TD
CLASS:PUBLIC
END:VEVENT
END:VCALENDAR
